BEGIN:VCALENDAR
VERSION:2.0
PRODID:-//CERN//INDICO//EN
BEGIN:VEVENT
SUMMARY:Particle Physics Meeting
DTSTART:20260416T193000Z
DTEND:20260416T210000Z
DTSTAMP:20260423T024400Z
UID:indico-event-933@indico.triumf.ca
DESCRIPTION:Join Zoom Meeting\n\nMeeting ID: 943 0035 9157 Passcode: 4321\
 n\nhttps://indico.triumf.ca/event/933/
URL:https://indico.triumf.ca/event/933/
END:VEVENT
END:VCALENDAR
